BEGIN:VCALENDAR
VERSION:2.0
PRODID:-//PROIFES - ECPv6.15.20//NONSGML v1.0//EN
CALSCALE:GREGORIAN
METHOD:PUBLISH
X-ORIGINAL-URL:https://proifes.org.br
X-WR-CALDESC:Eventos para PROIFES
REFRESH-INTERVAL;VALUE=DURATION:PT1H
X-Robots-Tag:noindex
X-PUBLISHED-TTL:PT1H
BEGIN:VTIMEZONE
TZID:America/Sao_Paulo
BEGIN:STANDARD
TZOFFSETFROM:-0300
TZOFFSETTO:-0300
TZNAME:-03
DTSTART:20250101T000000
END:STANDARD
END:VTIMEZONE
BEGIN:VEVENT
DTSTART;TZID=America/Sao_Paulo:20260423T080000
DTEND;TZID=America/Sao_Paulo:20260423T190000
DTSTAMP:20260424T085600
CREATED:20260424T020327Z
LAST-MODIFIED:20260424T020819Z
UID:29398-1776931200-1776970800@proifes.org.br
SUMMARY:Congresso CNTE
DESCRIPTION:jkwsdbfjkwbjkfgjkewrbfjgkjkewrgfjkbrjkgbjkewrbjkrewbkjgbewrkg
URL:https://proifes.org.br/event/congresso-cnte/
CATEGORIES:Agenda
ATTACH;FMTTYPE=image/jpeg:https://proifes.org.br/wp-content/uploads/2026/04/20260414_145943-scaled.jpg
END:VEVENT
BEGIN:VEVENT
DTSTART;TZID=America/Sao_Paulo:20260423T080000
DTEND;TZID=America/Sao_Paulo:20260423T170000
DTSTAMP:20260424T085600
CREATED:20260424T020243Z
LAST-MODIFIED:20260424T020243Z
UID:29396-1776931200-1776963600@proifes.org.br
SUMMARY:Reunião do GT Mulheres
DESCRIPTION:sdbfkhjbkfgkewbrkgfbkjhewrbgkjfhberkwbgkjhrebwkhgf
URL:https://proifes.org.br/event/reuniao-do-gt-mulheres/
CATEGORIES:Agenda
END:VEVENT
BEGIN:VEVENT
DTSTART;VALUE=DATE:20260423
DTEND;VALUE=DATE:20260424
DTSTAMP:20260424T085600
CREATED:20260424T015718Z
LAST-MODIFIED:20260424T015718Z
UID:29391-1776902400-1776988799@proifes.org.br
SUMMARY:Evento na Câmara dos Deputados
DESCRIPTION:jsfjkbgkejkfgkjerkghkherkgkherbkge
URL:https://proifes.org.br/event/evento-na-camara-dos-deputados/
CATEGORIES:Agenda
END:VEVENT
END:VCALENDAR