BEGIN:VCALENDAR
VERSION:2.0
PRODID:-//PROIFES - ECPv6.15.20//NONSGML v1.0//EN
CALSCALE:GREGORIAN
METHOD:PUBLISH
X-WR-CALNAME:PROIFES
X-ORIGINAL-URL:https://proifes.org.br
X-WR-CALDESC:Eventos para PROIFES
REFRESH-INTERVAL;VALUE=DURATION:PT1H
X-Robots-Tag:noindex
X-PUBLISHED-TTL:PT1H
BEGIN:VTIMEZONE
TZID:America/Sao_Paulo
BEGIN:STANDARD
TZOFFSETFROM:-0300
TZOFFSETTO:-0300
TZNAME:-03
DTSTART:20250101T000000
END:STANDARD
END:VTIMEZONE
BEGIN:VEVENT
DTSTART;VALUE=DATE:20260423
DTEND;VALUE=DATE:20260424
DTSTAMP:20260423T232427
CREATED:20260424T015718Z
LAST-MODIFIED:20260424T015718Z
UID:29391-1776902400-1776988799@proifes.org.br
SUMMARY:Evento na Câmara dos Deputados
DESCRIPTION:jsfjkbgkejkfgkjerkghkherkgkherbkge
URL:https://proifes.org.br/event/evento-na-camara-dos-deputados/
CATEGORIES:Agenda
END:VEVENT
END:VCALENDAR